BEGIN:VCALENDAR
VERSION:2.0
PRODID:-//https://www.lecze-salezjanie.pl///DJ-Events//EN
BEGIN:VEVENT
SUMMARY:+ Józef, Jadwiga i zmarli z rodziny Kosznik
UID:12@https://www.lecze-salezjanie.pl/
DTSTART:20220102T090000
DTEND:20220102T090000
DTSTAMP:20260425T205141
CATEGORIES:Msza święta
LOCATION:Suchacz 82-340 Kielecka 14
GEO:54.2856461944789;19.44132685661316
DESCRIPTION:
URL:https://www.lecze-salezjanie.pl//component/djevents/details/2022-01-02/12-jozef-jadwiga-i-zmarli-z-rodziny-kosznik
END:VEVENT
END:VCALENDAR
