BEGIN:VCALENDAR
VERSION:2.0
PRODID:-//https://www.lecze-salezjanie.pl///DJ-Events//EN
BEGIN:VEVENT
SUMMARY:+ Renata Henryka Jadczuk
UID:351@https://www.lecze-salezjanie.pl/
DTSTART:20220103T120000
DTEND:20220103T120000
DTSTAMP:20260425T204055
CATEGORIES:Pogrzeb
LOCATION:Suchacz 82-340 Kielecka 14
GEO:54.2856461944789;19.44132685661316
DESCRIPTION:
URL:https://www.lecze-salezjanie.pl//component/djevents/details/2022-01-03/351-renata-henryka-jadczuk
END:VEVENT
END:VCALENDAR
