BEGIN:VCALENDAR
VERSION:2.0
PRODID:-//https://www.lecze-salezjanie.pl///DJ-Events//EN
BEGIN:VEVENT
SUMMARY:Mieczysław Banaś - w 13 rocznicę śmierci raz zmarłych rodziców Przeradzkich i Banasiów
UID:24@https://www.lecze-salezjanie.pl/
DTSTART:20220106T120000
DTEND:20220106T120000
DTSTAMP:20260425T205216
CATEGORIES:Msza święta
LOCATION:Łęcze 82-340 Łęcze 48
GEO:54.2700545652713;19.468870040475466
DESCRIPTION:
URL:https://www.lecze-salezjanie.pl//component/djevents/details/2022-01-06/24-mieczyslaw-banas-w-13-rocznice-smierci-raz-zmarlych-rodzicow-przeradzkich-i-banasiow
END:VEVENT
END:VCALENDAR
