BEGIN:VCALENDAR
VERSION:2.0
PRODID:-//https://www.lecze-salezjanie.pl///DJ-Events//EN
BEGIN:VEVENT
SUMMARY:+ Iwona Święcicka - w 27 rocznicę śmierci oraz Franciszek, Marianna i Leon, Regina
UID:353@https://www.lecze-salezjanie.pl/
DTSTART:20220106T090000
DTEND:20220106T090000
DTSTAMP:20260425T205156
CATEGORIES:Msza święta
LOCATION:Suchacz 82-340 Kielecka 14
GEO:54.2856461944789;19.44132685661316
DESCRIPTION:
URL:https://www.lecze-salezjanie.pl//component/djevents/details/2022-01-06/353-iwona-swiecicka-w-27-rocznice-smierci-oraz-franciszek-marianna-i-leon-regina
END:VEVENT
END:VCALENDAR
