BEGIN:VCALENDAR
VERSION:2.0
PRODID:-//https://www.lecze-salezjanie.pl///DJ-Events//EN
BEGIN:VEVENT
SUMMARY:+ Władysław, Stefania, Jerzy Gaik, Jurek Piotrowski
UID:354@https://www.lecze-salezjanie.pl/
DTSTART:20220106T103000
DTEND:20220106T103000
DTSTAMP:20260425T204202
CATEGORIES:Msza święta
LOCATION:Suchacz 82-340 Kielecka 14
GEO:54.2856461944789;19.44132685661316
DESCRIPTION:
URL:https://www.lecze-salezjanie.pl//component/djevents/details/2022-01-06/354-wladyslaw-stefania-jerzy-gaik-jurek-piotrowski
END:VEVENT
END:VCALENDAR
