BEGIN:VCALENDAR
VERSION:2.0
PRODID:-//https://www.lecze-salezjanie.pl///DJ-Events//EN
BEGIN:VEVENT
SUMMARY:+ Apolonia Machcińska - w 22 rocznicę śmierci
UID:28@https://www.lecze-salezjanie.pl/
DTSTART:20220109T090000
DTEND:20220109T090000
DTSTAMP:20260425T190552
CATEGORIES:Msza święta
LOCATION:Łęcze 82-340 Łęcze 48
GEO:54.2700545652713;19.468870040475466
DESCRIPTION:
URL:https://www.lecze-salezjanie.pl//component/djevents/details/2022-01-09/28-apolonia-machcinska-w-22-rocznice-smierci
END:VEVENT
END:VCALENDAR
