BEGIN:VCALENDAR
VERSION:2.0
PRODID:-//https://www.lecze-salezjanie.pl///DJ-Events//EN
BEGIN:VEVENT
SUMMARY:+ Janina Niksa - Msza święta Gregoriańska (8) 
UID:29@https://www.lecze-salezjanie.pl/
DTSTART:20220109T120000
DTEND:20220109T120000
DTSTAMP:20260425T190311
CATEGORIES:Msza święta
LOCATION:Łęcze 82-340 Łęcze 48
GEO:54.2700545652713;19.468870040475466
DESCRIPTION:
URL:https://www.lecze-salezjanie.pl//component/djevents/details/2022-01-09/29-janina-niksa-msza-swieta-gregorianska-8
END:VEVENT
END:VCALENDAR
