BEGIN:VCALENDAR
VERSION:2.0
PRODID:-//https://www.lecze-salezjanie.pl///DJ-Events//EN
BEGIN:VEVENT
SUMMARY:+ Jarosław Hirko - w 4 rocznicę śmierci
UID:358@https://www.lecze-salezjanie.pl/
DTSTART:20220109T103000
DTEND:20220109T103000
DTSTAMP:20260425T190316
CATEGORIES:Msza święta
LOCATION:Suchacz 82-340 Kielecka 14
GEO:54.2856461944789;19.44132685661316
DESCRIPTION:
URL:https://www.lecze-salezjanie.pl//component/djevents/details/2022-01-09/358-jaroslaw-hirko-w-4-rocznice-smierci
END:VEVENT
END:VCALENDAR
