BEGIN:VCALENDAR
VERSION:2.0
PRODID:-//https://www.lecze-salezjanie.pl///DJ-Events//EN
BEGIN:VEVENT
SUMMARY:O zdrowie, Błogosławieństwo Boże i opiekę Matki Bożej dla Krystyny Maciuńskiej, Czesława Maciuńskiego i Daniela Rymsza
UID:360@https://www.lecze-salezjanie.pl/
DTSTART:20220111T170000
DTEND:20220111T170000
DTSTAMP:20260425T190805
CATEGORIES:Msza święta
LOCATION:Suchacz 82-340 Kielecka 14
GEO:54.2856461944789;19.44132685661316
DESCRIPTION:
URL:https://www.lecze-salezjanie.pl//component/djevents/details/2022-01-11/360-o-zdrowie-blogoslawienstwo-boze-i-opieke-matki-bozej-dla-krystyny-maciunskiej-czeslawa-maciunskiego-i-daniela-rymsza
END:VEVENT
END:VCALENDAR
