BEGIN:VCALENDAR
VERSION:2.0
PRODID:-//https://www.lecze-salezjanie.pl///DJ-Events//EN
BEGIN:VEVENT
SUMMARY:+ Szczepan, Marianna, Jan Dziechciarz oraz Zofia i Henryk Filip
UID:364@https://www.lecze-salezjanie.pl/
DTSTART:20220116T120000
DTEND:20220116T120000
DTSTAMP:20260425T174047
CATEGORIES:Msza święta
LOCATION:Kamionek Wielki 82-340 Kamionek Wielki 5
GEO:54.262029131955885;19.404954271163948
DESCRIPTION:
URL:https://www.lecze-salezjanie.pl//component/djevents/details/2022-01-16/364-szczepan-marianna-jan-dziechciarz-oraz-zofia-i-henryk-filip
END:VEVENT
END:VCALENDAR
