BEGIN:VCALENDAR
VERSION:2.0
PRODID:-//https://www.lecze-salezjanie.pl///DJ-Events//EN
BEGIN:VEVENT
SUMMARY:+ Janina Niksa - Msza święta Gregoriańska (15)
UID:39@https://www.lecze-salezjanie.pl/
DTSTART:20220116T090000
DTEND:20220116T090000
DTSTAMP:20260425T172300
CATEGORIES:Msza święta
LOCATION:Łęcze 82-340 Łęcze 48
GEO:54.2700545652713;19.468870040475466
DESCRIPTION:
URL:https://www.lecze-salezjanie.pl//component/djevents/details/2022-01-16/39-janina-niksa-msza-swieta-gregorianska-15
END:VEVENT
END:VCALENDAR
