BEGIN:VCALENDAR
VERSION:2.0
PRODID:-//https://www.lecze-salezjanie.pl///DJ-Events//EN
BEGIN:VEVENT
SUMMARY:O zdrowie, Boże Błogosławieństwo, opiekę Matki Bożej Wspomożycielki Wiernych dla księdza Mariusza z okazji imienin
UID:40@https://www.lecze-salezjanie.pl/
DTSTART:20220116T120000
DTEND:20220116T120000
DTSTAMP:20260425T172617
CATEGORIES:Msza święta
LOCATION:Łęcze 82-340 Łęcze 48
GEO:54.2700545652713;19.468870040475466
DESCRIPTION:
URL:https://www.lecze-salezjanie.pl//component/djevents/details/2022-01-16/40-o-zdrowie-boze-blogoslawienstwo-opieke-matki-bozej-wspomozycielki-wiernych-dla-ksiedza-mariusza-z-okazji-imienin
END:VEVENT
END:VCALENDAR
