BEGIN:VCALENDAR
VERSION:2.0
PRODID:-//https://www.lecze-salezjanie.pl///DJ-Events//EN
BEGIN:VEVENT
SUMMARY:O Boże Błogosławieństwo, dary Ducha Świętego w pisaniu pracy inżynierskiej dla Karola
UID:41@https://www.lecze-salezjanie.pl/
DTSTART:20220117T180000
DTEND:20220117T180000
DTSTAMP:20260425T174800
CATEGORIES:Msza święta
LOCATION:Łęcze 82-340 Łęcze 48
GEO:54.2700545652713;19.468870040475466
DESCRIPTION:
URL:https://www.lecze-salezjanie.pl//component/djevents/details/2022-01-17/41-o-boze-blogoslawienstwo-dary-ducha-swietego-w-pisaniu-pracy-inzynierskiej-dla-karola
END:VEVENT
END:VCALENDAR
