BEGIN:VCALENDAR
VERSION:2.0
PRODID:-//https://www.lecze-salezjanie.pl///DJ-Events//EN
BEGIN:VEVENT
SUMMARY:+ Janina Niksa - Msza święta Gregoriańska (16) 
UID:42@https://www.lecze-salezjanie.pl/
DTSTART:20220117T180000
DTEND:20220117T180000
DTSTAMP:20260425T172321
CATEGORIES:Msza święta
LOCATION:Łęcze 82-340 Łęcze 48
GEO:54.2700545652713;19.468870040475466
DESCRIPTION:
URL:https://www.lecze-salezjanie.pl//component/djevents/details/2022-01-17/42-janina-niksa-msza-swieta-gregorianska-16
END:VEVENT
END:VCALENDAR
