BEGIN:VCALENDAR
VERSION:2.0
PRODID:-//https://www.lecze-salezjanie.pl///DJ-Events//EN
BEGIN:VEVENT
SUMMARY:+ Stanisław Kaczan
UID:45@https://www.lecze-salezjanie.pl/
DTSTART:20220119T180000
DTEND:20220119T180000
DTSTAMP:20260425T172139
CATEGORIES:Msza święta
LOCATION:Łęcze 82-340 Łęcze 48
GEO:54.2700545652713;19.468870040475466
DESCRIPTION:
URL:https://www.lecze-salezjanie.pl//component/djevents/details/2022-01-19/45-stanislaw-kaczan
END:VEVENT
END:VCALENDAR
