BEGIN:VCALENDAR
VERSION:2.0
PRODID:-//https://www.lecze-salezjanie.pl///DJ-Events//EN
BEGIN:VEVENT
SUMMARY:O zdrowie, Boże Błogosławieństwo, opiekę Matki Bożej Wspomożycielki Wiernych dla Mamy i Babci Ani
UID:46@https://www.lecze-salezjanie.pl/
DTSTART:20220120T180000
DTEND:20220120T180000
DTSTAMP:20260425T172618
CATEGORIES:Msza święta
LOCATION:Łęcze 82-340 Łęcze 48
GEO:54.2700545652713;19.468870040475466
DESCRIPTION:
URL:https://www.lecze-salezjanie.pl//component/djevents/details/2022-01-20/46-o-zdrowie-boze-blogoslawienstwo-opieke-matki-bozej-wspomozycielki-wiernych-dla-mamy-i-babci-ani
END:VEVENT
END:VCALENDAR
