BEGIN:VCALENDAR
VERSION:2.0
PRODID:-//https://www.lecze-salezjanie.pl///DJ-Events//EN
BEGIN:VEVENT
SUMMARY:O dary Bożej Miłości, zdrowie, nieustanną opiekę Matki Bożej dla Agnieszki Hetman
UID:50@https://www.lecze-salezjanie.pl/
DTSTART:20220121T180000
DTEND:20220121T180000
DTSTAMP:20260425T174052
CATEGORIES:Msza święta
LOCATION:Łęcze 82-340 Łęcze 48
GEO:54.2700545652713;19.468870040475466
DESCRIPTION:
URL:https://www.lecze-salezjanie.pl//component/djevents/details/2022-01-21/50-o-dary-bozej-milosci-zdrowie-nieustanna-opieke-matki-bozej-dla-agnieszki-hetman
END:VEVENT
END:VCALENDAR
