BEGIN:VCALENDAR
VERSION:2.0
PRODID:-//https://www.lecze-salezjanie.pl///DJ-Events//EN
BEGIN:VEVENT
SUMMARY:O Boże Błogosławieństwo i potrzebne łaski dla Teresy Rygały z okazji urodzin
UID:51@https://www.lecze-salezjanie.pl/
DTSTART:20220122T180000
DTEND:20220122T180000
DTSTAMP:20260425T173609
CATEGORIES:Msza święta
LOCATION:Łęcze 82-340 Łęcze 48
GEO:54.2700545652713;19.468870040475466
DESCRIPTION:
URL:https://www.lecze-salezjanie.pl//component/djevents/details/2022-01-22/51-o-boze-blogoslawienstwo-i-potrzebne-laski-dla-teresy-rygaly-z-okazji-urodzin
END:VEVENT
END:VCALENDAR
