BEGIN:VCALENDAR
VERSION:2.0
PRODID:-//https://www.lecze-salezjanie.pl///DJ-Events//EN
BEGIN:VEVENT
SUMMARY:Msza święta kolędowa - o Boże Błogosławieństwo dla Mieszkańców Kamionka Wielkiego
UID:368@https://www.lecze-salezjanie.pl/
DTSTART:20220123T120000
DTEND:20220123T120000
DTSTAMP:20260425T155048
CATEGORIES:Msza święta
LOCATION:Kamionek Wielki 82-340 Kamionek Wielki 5
GEO:54.262029131955885;19.404954271163948
DESCRIPTION:
URL:https://www.lecze-salezjanie.pl//component/djevents/details/2022-01-23/368-msza-swieta-koledowa-o-boze-blogoslawienstwo-dla-mieszkancow-kamionka-wielkiego
END:VEVENT
END:VCALENDAR
