BEGIN:VCALENDAR
VERSION:2.0
PRODID:-//https://www.lecze-salezjanie.pl///DJ-Events//EN
BEGIN:VEVENT
SUMMARY:+ Agnieszka Nowicka - w 13 rocznicę śmierci i Zygmunt Nowicki - w 6 rocznicę śmierci
UID:499@https://www.lecze-salezjanie.pl/
DTSTART:20220123T103000
DTEND:20220123T103000
DTSTAMP:20260425T155116
CATEGORIES:Msza święta
LOCATION:Suchacz 82-340 Kielecka 14
GEO:54.2856461944789;19.44132685661316
DESCRIPTION:
URL:https://www.lecze-salezjanie.pl//component/djevents/details/2022-01-23/499-agnieszka-nowicka-w-13-rocznice-smierci-i-zygmunt-nowicki-w-6-rocznice-smierci
END:VEVENT
END:VCALENDAR
