BEGIN:VCALENDAR
VERSION:2.0
PRODID:-//https://www.lecze-salezjanie.pl///DJ-Events//EN
BEGIN:VEVENT
SUMMARY:O łaskę wiary, Boże Błogosławieństwo, uzdrowienie duszy i ciała dla Wojtka, Marcina i ich rodzin
UID:58@https://www.lecze-salezjanie.pl/
DTSTART:20220126T180000
DTEND:20220126T180000
DTSTAMP:20260425T155048
CATEGORIES:Msza święta
LOCATION:Łęcze 82-340 Łęcze 48
GEO:54.2700545652713;19.468870040475466
DESCRIPTION:
URL:https://www.lecze-salezjanie.pl//component/djevents/details/2022-01-26/58-o-laske-wiary-boze-blogoslawienstwo-uzdrowienie-duszy-i-ciala-dla-wojtka-marcina-i-ich-rodzin
END:VEVENT
END:VCALENDAR
