BEGIN:VCALENDAR
VERSION:2.0
PRODID:-//https://www.lecze-salezjanie.pl///DJ-Events//EN
BEGIN:VEVENT
SUMMARY:+ Anna Maria Prokop
UID:522@https://www.lecze-salezjanie.pl/
DTSTART:20220129T120000
DTEND:20220129T120000
DTSTAMP:20260425T154553
CATEGORIES:Pogrzeb
LOCATION:Suchacz 82-340 Kielecka 14
GEO:54.2856461944789;19.44132685661316
DESCRIPTION:
URL:https://www.lecze-salezjanie.pl//component/djevents/details/2022-01-29/522-anna-maria-prokop
END:VEVENT
END:VCALENDAR
