BEGIN:VCALENDAR
VERSION:2.0
PRODID:-//https://www.lecze-salezjanie.pl///DJ-Events//EN
BEGIN:VEVENT
SUMMARY:+ Zygmunt Plumbaum - w 1 miesiąc po śmierci oraz Stanisława Plumbaum
UID:370@https://www.lecze-salezjanie.pl/
DTSTART:20220130T090000
DTEND:20220130T090000
DTSTAMP:20260425T141801
CATEGORIES:Msza święta
LOCATION:Suchacz 82-340 Kielecka 14
GEO:54.2856461944789;19.44132685661316
DESCRIPTION:
URL:https://www.lecze-salezjanie.pl//component/djevents/details/2022-01-30/370-zygmunt-plumbaum-w-1-miesiac-po-smierci-oraz-stanislawa-plumbaum
END:VEVENT
END:VCALENDAR
