BEGIN:VCALENDAR
VERSION:2.0
PRODID:-//https://www.lecze-salezjanie.pl///DJ-Events//EN
BEGIN:VEVENT
SUMMARY:+ Józef - w 35 rocznicę śmierci i Jadwiga Wiśniewscy, Janina i Stanisław i wszyscy zmarli z rodziny Woś
UID:63@https://www.lecze-salezjanie.pl/
DTSTART:20220130T090000
DTEND:20220130T090000
DTSTAMP:20260425T141920
CATEGORIES:Msza święta
LOCATION:Łęcze 82-340 Łęcze 48
GEO:54.2700545652713;19.468870040475466
DESCRIPTION:
URL:https://www.lecze-salezjanie.pl//component/djevents/details/2022-01-30/63-jozef-w-35-rocznice-smierci-i-jadwiga-wisniewscy-janina-i-stanislaw-i-wszyscy-zmarli-z-rodziny-wos
END:VEVENT
END:VCALENDAR
