BEGIN:VCALENDAR
VERSION:2.0
PRODID:-//https://www.lecze-salezjanie.pl///DJ-Events//EN
BEGIN:VEVENT
SUMMARY:+ Helena Domin - Msza święta Gregoriańska (2)
UID:373@https://www.lecze-salezjanie.pl/
DTSTART:20220201T170000
DTEND:20220201T170000
DTSTAMP:20260425T141420
CATEGORIES:Msza święta
LOCATION:Suchacz 82-340 Kielecka 14
GEO:54.2856461944789;19.44132685661316
DESCRIPTION:
URL:https://www.lecze-salezjanie.pl//component/djevents/details/2022-02-01/373-helena-domin-msza-swieta-gregorianska-2
END:VEVENT
END:VCALENDAR
