BEGIN:VCALENDAR
VERSION:2.0
PRODID:-//https://www.lecze-salezjanie.pl///DJ-Events//EN
BEGIN:VEVENT
SUMMARY:+ Edward, Genowefa, Anna, Sebastian i zmarli z rodziny
UID:73@https://www.lecze-salezjanie.pl/
DTSTART:20220206T120000
DTEND:20220206T120000
DTSTAMP:20260425T124356
CATEGORIES:Msza święta
LOCATION:Łęcze 82-340 Łęcze 48
GEO:54.2700545652713;19.468870040475466
DESCRIPTION:
URL:https://www.lecze-salezjanie.pl//component/djevents/details/2022-02-06/73-edward-genowefa-anna-sebastian-i-zmarli-z-rodziny
END:VEVENT
END:VCALENDAR
