BEGIN:VCALENDAR
VERSION:2.0
PRODID:-//https://www.lecze-salezjanie.pl///DJ-Events//EN
BEGIN:VEVENT
SUMMARY:O zdrowie, Boże Błogosławieństwo, opiekę Matki Bożej dla Zygmunta i jego rodziny
UID:385@https://www.lecze-salezjanie.pl/
DTSTART:20220210T170000
DTEND:20220210T170000
DTSTAMP:20260425T124538
CATEGORIES:Msza święta
LOCATION:Suchacz 82-340 Kielecka 14
GEO:54.2856461944789;19.44132685661316
DESCRIPTION:
URL:https://www.lecze-salezjanie.pl//component/djevents/details/2022-02-10/385-o-zdrowie-boze-blogoslawienstwo-opieke-matki-bozej-dla-zygmunta-i-jego-rodziny
END:VEVENT
END:VCALENDAR
