BEGIN:VCALENDAR
VERSION:2.0
PRODID:-//https://www.lecze-salezjanie.pl///DJ-Events//EN
BEGIN:VEVENT
SUMMARY:+ Helena Domin - Msza święta Gregoriańska (11)
UID:79@https://www.lecze-salezjanie.pl/
DTSTART:20220210T180000
DTEND:20220210T180000
DTSTAMP:20260425T124104
CATEGORIES:Msza święta
LOCATION:Łęcze 82-340 Łęcze 48
GEO:54.2700545652713;19.468870040475466
DESCRIPTION:
URL:https://www.lecze-salezjanie.pl//component/djevents/details/2022-02-10/79-helena-domin-msza-swieta-gregorianska-11
END:VEVENT
END:VCALENDAR
