BEGIN:VCALENDAR
VERSION:2.0
PRODID:-//https://www.lecze-salezjanie.pl///DJ-Events//EN
BEGIN:VEVENT
SUMMARY:O zdrowie, Boże Błogosławieństwo, opiekę Matki Bożej dla Marka, Leszka i ich rodzin
UID:81@https://www.lecze-salezjanie.pl/
DTSTART:20220211T180000
DTEND:20220211T180000
DTSTAMP:20260425T124538
CATEGORIES:Msza święta
LOCATION:Łęcze 82-340 Łęcze 48
GEO:54.2700545652713;19.468870040475466
DESCRIPTION:
URL:https://www.lecze-salezjanie.pl//component/djevents/details/2022-02-11/81-o-zdrowie-boze-blogoslawienstwo-opieke-matki-bozej-dla-marka-leszka-i-ich-rodzin
END:VEVENT
END:VCALENDAR
