BEGIN:VCALENDAR
VERSION:2.0
PRODID:-//https://www.lecze-salezjanie.pl///DJ-Events//EN
BEGIN:VEVENT
SUMMARY:O radość nieba dla zmarłych z rodziny Tandulów i Mackiewiczów
UID:86@https://www.lecze-salezjanie.pl/
DTSTART:20220212T180000
DTEND:20220212T180000
DTSTAMP:20260425T124448
CATEGORIES:Msza święta
LOCATION:Łęcze 82-340 Łęcze 48
GEO:54.2700545652713;19.468870040475466
DESCRIPTION:
URL:https://www.lecze-salezjanie.pl//component/djevents/details/2022-02-12/86-o-radosc-nieba-dla-zmarlych-z-rodziny-tandulow-i-mackiewiczow
END:VEVENT
END:VCALENDAR
