BEGIN:VCALENDAR
VERSION:2.0
PRODID:-//https://www.lecze-salezjanie.pl///DJ-Events//EN
BEGIN:VEVENT
SUMMARY:O szczęśliwą operację, zdrowie, Boże Błogosławieństwo i opiekę Matki Bożej dla Leokadii
UID:109@https://www.lecze-salezjanie.pl/
DTSTART:20220227T120000
DTEND:20220227T120000
DTSTAMP:20260423T050707
CATEGORIES:Msza święta
LOCATION:Łęcze 82-340 Łęcze 48
GEO:54.2700545652713;19.468870040475466
DESCRIPTION:
URL:https://www.lecze-salezjanie.pl//component/djevents/details/2022-02-27/109-o-szczesliwa-operacje-zdrowie-boze-blogoslawienstwo-i-opieke-matki-bozej-dla-leokadii
END:VEVENT
END:VCALENDAR
