BEGIN:VCALENDAR
VERSION:2.0
PRODID:-//https://www.lecze-salezjanie.pl///DJ-Events//EN
BEGIN:VEVENT
SUMMARY:+ Waldemar Postek i zmarli z rodziny
UID:391@https://www.lecze-salezjanie.pl/
DTSTART:20220227T090000
DTEND:20220227T090000
DTSTAMP:20260423T045649
CATEGORIES:Msza święta
LOCATION:Suchacz 82-340 Kielecka 14
GEO:54.2856461944789;19.44132685661316
DESCRIPTION:
URL:https://www.lecze-salezjanie.pl//component/djevents/details/2022-02-27/391-waldemar-postek-i-zmarliz-rodziny
END:VEVENT
END:VCALENDAR
