BEGIN:VCALENDAR
VERSION:2.0
PRODID:-//https://www.lecze-salezjanie.pl///DJ-Events//EN
BEGIN:VEVENT
SUMMARY:Za Parafian
UID:393@https://www.lecze-salezjanie.pl/
DTSTART:20220227T120000
DTEND:20220227T120000
DTSTAMP:20260423T045023
CATEGORIES:Msza święta
LOCATION:Kamionek Wielki 82-340 Kamionek Wielki 5
GEO:54.262029131955885;19.404954271163948
DESCRIPTION:
URL:https://www.lecze-salezjanie.pl//component/djevents/details/2022-02-27/393-za-parafian-1
END:VEVENT
END:VCALENDAR
