BEGIN:VCALENDAR
VERSION:2.0
PRODID:-//https://www.lecze-salezjanie.pl///DJ-Events//EN
BEGIN:VEVENT
SUMMARY:+ Helena Domin - Msza święta Gregoriańska (30)
UID:112@https://www.lecze-salezjanie.pl/
DTSTART:20220301T180000
DTEND:20220301T180000
DTSTAMP:20260423T045145
CATEGORIES:Msza święta
LOCATION:Łęcze 82-340 Łęcze 48
GEO:54.2700545652713;19.468870040475466
DESCRIPTION:
URL:https://www.lecze-salezjanie.pl//component/djevents/details/2022-03-01/112-helena-domin-msza-swieta-gregorianska-30
END:VEVENT
END:VCALENDAR
