BEGIN:VCALENDAR
VERSION:2.0
PRODID:-//https://www.lecze-salezjanie.pl///DJ-Events//EN
BEGIN:VEVENT
SUMMARY:Dziękczynna, o dalsze Błogosławieństwo dla całej rodziny
UID:396@https://www.lecze-salezjanie.pl/
DTSTART:20220303T170000
DTEND:20220303T170000
DTSTAMP:20260423T050537
CATEGORIES:Msza święta
LOCATION:Suchacz 82-340 Kielecka 14
GEO:54.2856461944789;19.44132685661316
DESCRIPTION:
URL:https://www.lecze-salezjanie.pl//component/djevents/details/2022-03-03/396-dziekczynna-o-dalsze-blogoslawienstwo-dla-calej-rodziny
END:VEVENT
END:VCALENDAR
