BEGIN:VCALENDAR
VERSION:2.0
PRODID:-//https://www.lecze-salezjanie.pl///DJ-Events//EN
BEGIN:VEVENT
SUMMARY:Za zmarłych polecanych w Wypominkach
UID:115@https://www.lecze-salezjanie.pl/
DTSTART:20220304T180000
DTEND:20220304T180000
DTSTAMP:20260423T050017
CATEGORIES:Msza święta
LOCATION:Łęcze 82-340 Łęcze 48
GEO:54.2700545652713;19.468870040475466
DESCRIPTION:
URL:https://www.lecze-salezjanie.pl//component/djevents/details/2022-03-04/115-za-zmarlych-polecanych-w-wypominkach-1
END:VEVENT
END:VCALENDAR
