BEGIN:VCALENDAR
VERSION:2.0
PRODID:-//https://www.lecze-salezjanie.pl///DJ-Events//EN
BEGIN:VEVENT
SUMMARY:+ Jan Sylwestrzak - w 3 rocznicę śmierci, Helena Sylwestrzak, Andrzej, Jadwiga i Alicja z domu Przybylscy i Roman Giedrys
UID:399@https://www.lecze-salezjanie.pl/
DTSTART:20220306T103000
DTEND:20220306T103000
DTSTAMP:20260423T030854
CATEGORIES:Msza święta
LOCATION:Suchacz 82-340 Kielecka 14
GEO:54.2856461944789;19.44132685661316
DESCRIPTION:
URL:https://www.lecze-salezjanie.pl//component/djevents/details/2022-03-06/399-jan-sylwestrzak-w-3-rocznice-smierci-helena-sylwestrzak-andrzej-jadwiga-i-alicja-z-domu-przybylscy-i-roman-giedrys
END:VEVENT
END:VCALENDAR
