BEGIN:VCALENDAR
VERSION:2.0
PRODID:-//https://www.lecze-salezjanie.pl///DJ-Events//EN
BEGIN:VEVENT
SUMMARY:+ Aleksandra Budzyńska - Msza święta Gregoriańska (6)
UID:494@https://www.lecze-salezjanie.pl/
DTSTART:20220306T090000
DTEND:20220306T090000
DTSTAMP:20260423T030251
CATEGORIES:Msza święta
LOCATION:Suchacz 82-340 Kielecka 14
GEO:54.2856461944789;19.44132685661316
DESCRIPTION:
URL:https://www.lecze-salezjanie.pl//component/djevents/details/2022-03-06/494-aleksandra-budzynska-msza-swieta-gregorianska-6
END:VEVENT
END:VCALENDAR
