BEGIN:VCALENDAR
VERSION:2.0
PRODID:-//https://www.lecze-salezjanie.pl///DJ-Events//EN
BEGIN:VEVENT
SUMMARY:Dziękczynna, z prośbą o dary Bożej Miłości, zdrowie i nieustanną opiekę Matki Bożej dla Lenki Andrukiewicz z okazji 11 urodzin
UID:404@https://www.lecze-salezjanie.pl/
DTSTART:20220308T170000
DTEND:20220308T170000
DTSTAMP:20260423T031135
CATEGORIES:Msza święta
LOCATION:Suchacz 82-340 Kielecka 14
GEO:54.2856461944789;19.44132685661316
DESCRIPTION:
URL:https://www.lecze-salezjanie.pl//component/djevents/details/2022-03-08/404-dziekczynna-z-prosba-o-dary-bozej-milosci-zdrowie-i-nieustanna-opieke-matki-bozej-dla-lenki-andrukiewicz-z-okazji-11-urodzin
END:VEVENT
END:VCALENDAR
