BEGIN:VCALENDAR
VERSION:2.0
PRODID:-//https://www.lecze-salezjanie.pl///DJ-Events//EN
BEGIN:VEVENT
SUMMARY:O dary Bożej Miłości, zdrowie, opiekę Matki Bożej dla Elżbiety
UID:405@https://www.lecze-salezjanie.pl/
DTSTART:20220310T170000
DTEND:20220310T170000
DTSTAMP:20260423T031022
CATEGORIES:Msza święta
LOCATION:Suchacz 82-340 Kielecka 14
GEO:54.2856461944789;19.44132685661316
DESCRIPTION:
URL:https://www.lecze-salezjanie.pl//component/djevents/details/2022-03-10/405-o-dary-bozej-milosci-zdrowie-opieke-matki-bozej-dla-elzbiety
END:VEVENT
END:VCALENDAR
