BEGIN:VCALENDAR
VERSION:2.0
PRODID:-//https://www.lecze-salezjanie.pl///DJ-Events//EN
BEGIN:VEVENT
SUMMARY:+ Józef i Jadwiga Straszkiewicz, Henryk i Krystyna Franczak
UID:129@https://www.lecze-salezjanie.pl/
DTSTART:20220313T120000
DTEND:20220313T120000
DTSTAMP:20260423T013237
CATEGORIES:Msza święta
LOCATION:Łęcze 82-340 Łęcze 48
GEO:54.2700545652713;19.468870040475466
DESCRIPTION:
URL:https://www.lecze-salezjanie.pl//component/djevents/details/2022-03-13/129-jozef-i-jadwiga-straszkiewicz-henryk-i-krystyna-franczak
END:VEVENT
END:VCALENDAR
