BEGIN:VCALENDAR
VERSION:2.0
PRODID:-//https://www.lecze-salezjanie.pl///DJ-Events//EN
BEGIN:VEVENT
SUMMARY:O Boże Błogosławieństwo i potrzebne łaski dla Krystyny z okazji imienin i całej rodziny
UID:406@https://www.lecze-salezjanie.pl/
DTSTART:20220313T090000
DTEND:20220313T090000
DTSTAMP:20260423T013104
CATEGORIES:Msza święta
LOCATION:Suchacz 82-340 Kielecka 14
GEO:54.2856461944789;19.44132685661316
DESCRIPTION:
URL:https://www.lecze-salezjanie.pl//component/djevents/details/2022-03-13/406-o-boze-blogoslawienstwo-i-potrzebne-laski-dla-krystyny-z-okazji-imienin-i-calej-rodziny
END:VEVENT
END:VCALENDAR
