BEGIN:VCALENDAR
VERSION:2.0
PRODID:-//https://www.lecze-salezjanie.pl///DJ-Events//EN
BEGIN:VEVENT
SUMMARY:+ Wacław Pluta - w 5 rocznicę śmierci i za zmarłych z rodziny Plutów
UID:407@https://www.lecze-salezjanie.pl/
DTSTART:20220313T103000
DTEND:20220313T103000
DTSTAMP:20260423T013427
CATEGORIES:Msza święta
LOCATION:Suchacz 82-340 Kielecka 14
GEO:54.2856461944789;19.44132685661316
DESCRIPTION:
URL:https://www.lecze-salezjanie.pl//component/djevents/details/2022-03-13/407-waclaw-pluta-w-5-rocznice-smierci-i-za-zmarlych-z-rodziny-plutow
END:VEVENT
END:VCALENDAR
