BEGIN:VCALENDAR
VERSION:2.0
PRODID:-//https://www.lecze-salezjanie.pl///DJ-Events//EN
BEGIN:VEVENT
SUMMARY:+ Aleksandra Budzyńska - Msza święta Gregoriańska (14)
UID:130@https://www.lecze-salezjanie.pl/
DTSTART:20220314T180000
DTEND:20220314T180000
DTSTAMP:20260423T013144
CATEGORIES:Msza święta
LOCATION:Łęcze 82-340 Łęcze 48
GEO:54.2700545652713;19.468870040475466
DESCRIPTION:
URL:https://www.lecze-salezjanie.pl//component/djevents/details/2022-03-14/130-aleksandra-budzynska-msza-swieta-gregorianska-14
END:VEVENT
END:VCALENDAR
