BEGIN:VCALENDAR
VERSION:2.0
PRODID:-//https://www.lecze-salezjanie.pl///DJ-Events//EN
BEGIN:VEVENT
SUMMARY:+ Stanisław Kaczan
UID:131@https://www.lecze-salezjanie.pl/
DTSTART:20220314T180000
DTEND:20220314T180000
DTSTAMP:20260423T012158
CATEGORIES:Msza święta
LOCATION:Łęcze 82-340 Łęcze 48
GEO:54.2700545652713;19.468870040475466
DESCRIPTION:
URL:https://www.lecze-salezjanie.pl//component/djevents/details/2022-03-14/131-stanislaw-kaczan-1
END:VEVENT
END:VCALENDAR
