BEGIN:VCALENDAR
VERSION:2.0
PRODID:-//https://www.lecze-salezjanie.pl///DJ-Events//EN
BEGIN:VEVENT
SUMMARY:+ Janina i Antoni Kępka
UID:134@https://www.lecze-salezjanie.pl/
DTSTART:20220316T180000
DTEND:20220316T180000
DTSTAMP:20260423T011108
CATEGORIES:Msza święta
LOCATION:Łęcze 82-340 Łęcze 48
GEO:54.2700545652713;19.468870040475466
DESCRIPTION:
URL:https://www.lecze-salezjanie.pl//component/djevents/details/2022-03-16/134-janina-i-antoni-kepka
END:VEVENT
END:VCALENDAR
