BEGIN:VCALENDAR
VERSION:2.0
PRODID:-//https://www.lecze-salezjanie.pl///DJ-Events//EN
BEGIN:VEVENT
SUMMARY:+ Aleksandra Budzyńska - Msza święta Gregoriańska (17)
UID:409@https://www.lecze-salezjanie.pl/
DTSTART:20220317T170000
DTEND:20220317T170000
DTSTAMP:20260423T011236
CATEGORIES:Msza święta
LOCATION:Suchacz 82-340 Kielecka 14
GEO:54.2856461944789;19.44132685661316
DESCRIPTION:
URL:https://www.lecze-salezjanie.pl//component/djevents/details/2022-03-17/409-aleksandra-budzynska-msza-swieta-gregorianska-17
END:VEVENT
END:VCALENDAR
