BEGIN:VCALENDAR
VERSION:2.0
PRODID:-//https://www.lecze-salezjanie.pl///DJ-Events//EN
BEGIN:VEVENT
SUMMARY:Za rodzinę Maciuńskich, Rymszów i Januszko
UID:410@https://www.lecze-salezjanie.pl/
DTSTART:20220318T170000
DTEND:20220318T170000
DTSTAMP:20260423T013501
CATEGORIES:Msza święta
LOCATION:Suchacz 82-340 Kielecka 14
GEO:54.2856461944789;19.44132685661316
DESCRIPTION:
URL:https://www.lecze-salezjanie.pl//component/djevents/details/2022-03-18/410-za-rodzine-maciunskich-rymszow-i-januszko
END:VEVENT
END:VCALENDAR
