BEGIN:VCALENDAR
VERSION:2.0
PRODID:-//https://www.lecze-salezjanie.pl///DJ-Events//EN
BEGIN:VEVENT
SUMMARY:Droga Krzyżowa
UID:492@https://www.lecze-salezjanie.pl/
DTSTART:20220318T173000
DTEND:20220318T173000
DTSTAMP:20260423T012137
CATEGORIES:Nabożeństwo
LOCATION:Łęcze 82-340 Łęcze 48
GEO:54.2700545652713;19.468870040475466
DESCRIPTION:
URL:https://www.lecze-salezjanie.pl//component/djevents/details/2022-03-18/492-droga-krzyzowa-1
END:VEVENT
END:VCALENDAR
