BEGIN:VCALENDAR
VERSION:2.0
PRODID:-//https://www.lecze-salezjanie.pl///DJ-Events//EN
BEGIN:VEVENT
SUMMARY:+ Stanisław i Janina, zmarli z rodziny Woś, Jadwiga i Józef Wiśniewscy
UID:140@https://www.lecze-salezjanie.pl/
DTSTART:20220320T090000
DTEND:20220320T090000
DTSTAMP:20260422T235511
CATEGORIES:Msza święta
LOCATION:Łęcze 82-340 Łęcze 48
GEO:54.2700545652713;19.468870040475466
DESCRIPTION:
URL:https://www.lecze-salezjanie.pl//component/djevents/details/2022-03-20/140-stanislaw-i-janina-zmarli-z-rodziny-wos-jadwiga-i-jozef-wisniewscy
END:VEVENT
END:VCALENDAR
